BEGIN:VCALENDAR
VERSION:2.0
PRODID:-//eventon.com NONSGML v1.0//EN
CALSCALE:GREGORIAN
METHOD:PUBLISH
BEGIN:VEVENT
UID:69eb3fcd213a7
DTSTAMP:20260424T100253Z
DTSTART:20261008T090000Z
DTEND:20261008T120000Z
LOCATION:
SUMMARY:CONFERENCE NAPLES
DESCRIPTION:CONFERENCE NAPLES\nhttps://wastewoodgroup.com/events/conference
 -naples/
URL:https://wastewoodgroup.com/events/conference-naples/
END:VEVENT
END:VCALENDAR