BEGIN:VCALENDAR
VERSION:2.0
PRODID:-//eventon.com NONSGML v1.0//EN
CALSCALE:GREGORIAN
METHOD:PUBLISH
BEGIN:VEVENT
UID:69eb41150f460
DTSTAMP:20260424T100821Z
DTSTART:20261007T190000Z
DTEND:20261007T230000Z
LOCATION:
SUMMARY:NETWORKING EVENING NAPLES
DESCRIPTION:NETWORKING EVENING NAPLES\nhttps://wastewoodgroup.com/events/ne
 tworking-evening-naples/
URL:https://wastewoodgroup.com/events/networking-evening-naples/
END:VEVENT
END:VCALENDAR